BEGIN:VCALENDAR
VERSION:2.0
PRODID:-//iccirvington.org//eCatholic//EN
X-WR-TIMEZONE:LocalTZ
BEGIN:VTIMEZONE
TZID:LocalTZ
X-LIC-LOCATION:LocalTZ
BEGIN:DAYLIGHT
TZOFFSETFROM:-0500
TZOFFSETTO:-0400
TZNAME:LocalTZ
DTSTART:19700308T020000
RRULE:FREQ=YEARLY;BYMONTH=3;BYDAY=2SU
END:DAYLIGHT
BEGIN:STANDARD
TZOFFSETFROM:-0400
TZOFFSETTO:-0500
TZNAME:LocalTZ
DTSTART:19701101T020000
RRULE:FREQ=YEARLY;BYMONTH=11;BYDAY=1SU
END:STANDARD
END:VTIMEZONE
BEGIN:VEVENT
UID:2795979@iccirvington.org
DTSTAMP:20260420T181546Z
DTSTART;VALUE=DATE:20260501
DTEND;VALUE=DATE:20260502
SUMMARY:ARS Baby Shower
END:VEVENT
BEGIN:VEVENT
UID:2795980@iccirvington.org
DTSTAMP:20260420T181546Z
DTSTART;VALUE=DATE:20260501
DTEND;VALUE=DATE:20260502
SUMMARY:Month of May
END:VEVENT
BEGIN:VEVENT
UID:2795983@iccirvington.org
DTSTAMP:20260420T181546Z
DTSTART;VALUE=DATE:20260502
DTEND;VALUE=DATE:20260503
SUMMARY:First Holy Communion 10:00am
END:VEVENT
BEGIN:VEVENT
UID:2795984@iccirvington.org
DTSTAMP:20260420T181546Z
DTSTART;VALUE=DATE:20260503
DTEND;VALUE=DATE:20260504
SUMMARY:First Communicants Mass 10:00am
END:VEVENT
BEGIN:VEVENT
UID:2795985@iccirvington.org
DTSTAMP:20260420T181546Z
DTSTART;VALUE=DATE:20260503
DTEND;VALUE=DATE:20260504
SUMMARY:May Crowning 10:00am Mass
END:VEVENT
BEGIN:VEVENT
UID:2795987@iccirvington.org
DTSTAMP:20260420T181546Z
DTSTART;VALUE=DATE:20260510
DTEND;VALUE=DATE:20260511
SUMMARY:Mothers Day
END:VEVENT
BEGIN:VEVENT
UID:2795988@iccirvington.org
DTSTAMP:20260420T181546Z
DTSTART;VALUE=DATE:20260510
DTEND;VALUE=DATE:20260511
SUMMARY:Expectant Family Masses
END:VEVENT
BEGIN:VEVENT
UID:2795990@iccirvington.org
DTSTAMP:20260420T181546Z
DTSTART;VALUE=DATE:20260513
DTEND;VALUE=DATE:20260514
SUMMARY:Ascension Vigil
END:VEVENT
BEGIN:VEVENT
UID:2795991@iccirvington.org
DTSTAMP:20260420T181546Z
DTSTART;VALUE=DATE:20260513
DTEND;VALUE=DATE:20260514
SUMMARY:Mass 7:30pm
END:VEVENT
BEGIN:VEVENT
UID:2795992@iccirvington.org
DTSTAMP:20260420T181546Z
DTSTART;VALUE=DATE:20260514
DTEND;VALUE=DATE:20260515
SUMMARY:Ascension Thursday
END:VEVENT
BEGIN:VEVENT
UID:2795993@iccirvington.org
DTSTAMP:20260420T181546Z
DTSTART;VALUE=DATE:20260514
DTEND;VALUE=DATE:20260515
SUMMARY:Masses 8:30am\, 12:00noon
END:VEVENT
BEGIN:VEVENT
UID:2795994@iccirvington.org
DTSTAMP:20260420T181546Z
DTSTART;VALUE=DATE:20260516
DTEND;VALUE=DATE:20260517
SUMMARY:Anointing Mass
END:VEVENT
BEGIN:VEVENT
UID:2795995@iccirvington.org
DTSTAMP:20260420T181546Z
DTSTART;VALUE=DATE:20260516
DTEND;VALUE=DATE:20260517
SUMMARY:10:00am
END:VEVENT
BEGIN:VEVENT
UID:2795996@iccirvington.org
DTSTAMP:20260420T181546Z
DTSTART;VALUE=DATE:20260524
DTEND;VALUE=DATE:20260525
SUMMARY:Memorial Day Remembrance Mass
END:VEVENT
BEGIN:VEVENT
UID:2795997@iccirvington.org
DTSTAMP:20260420T181546Z
DTSTART;VALUE=DATE:20260524
DTEND;VALUE=DATE:20260525
SUMMARY:10:00am
END:VEVENT
BEGIN:VEVENT
UID:2795998@iccirvington.org
DTSTAMP:20260420T181546Z
DTSTART;VALUE=DATE:20260525
DTEND;VALUE=DATE:20260526
SUMMARY:Memorial Day
END:VEVENT
BEGIN:VEVENT
UID:2796000@iccirvington.org
DTSTAMP:20260420T181546Z
DTSTART;VALUE=DATE:20260525
DTEND;VALUE=DATE:20260526
SUMMARY:Offices Closed
END:VEVENT
BEGIN:VEVENT
UID:2796002@iccirvington.org
DTSTAMP:20260420T181546Z
DTSTART;VALUE=DATE:20260614
DTEND;VALUE=DATE:20260615
SUMMARY:Wedding Anniversary Mass 10:00am
END:VEVENT
BEGIN:VEVENT
UID:2796003@iccirvington.org
DTSTAMP:20260420T181546Z
DTSTART;VALUE=DATE:20260621
DTEND;VALUE=DATE:20260622
SUMMARY:Fathers Day
END:VEVENT
BEGIN:VEVENT
UID:2883861@iccirvington.org
DTSTAMP:20260420T181546Z
DTSTART;VALUE=DATE:20260422
DTEND;VALUE=DATE:20260423
SUMMARY:REP Classes
END:VEVENT
BEGIN:VEVENT
UID:2883864@iccirvington.org
DTSTAMP:20260420T181546Z
DTSTART;VALUE=DATE:20260429
DTEND;VALUE=DATE:20260430
SUMMARY:REP Classes
END:VEVENT
BEGIN:VEVENT
UID:2883872@iccirvington.org
DTSTAMP:20260420T181546Z
DTSTART;VALUE=DATE:20260429
DTEND;VALUE=DATE:20260430
SUMMARY:First Communion Practice
END:VEVENT
BEGIN:VEVENT
UID:2883881@iccirvington.org
DTSTAMP:20260420T181546Z
DTSTART;VALUE=DATE:20260505
DTEND;VALUE=DATE:20260506
SUMMARY:Altar Rosary Meeting
END:VEVENT
BEGIN:VEVENT
UID:2883883@iccirvington.org
DTSTAMP:20260420T181546Z
DTSTART;VALUE=DATE:20260505
DTEND;VALUE=DATE:20260506
SUMMARY:7:00pm Vic
END:VEVENT
BEGIN:VEVENT
UID:2883884@iccirvington.org
DTSTAMP:20260420T181546Z
DTSTART;VALUE=DATE:20260506
DTEND;VALUE=DATE:20260507
SUMMARY:REP Classes
END:VEVENT
BEGIN:VEVENT
UID:2883890@iccirvington.org
DTSTAMP:20260420T181546Z
DTSTART;VALUE=DATE:20260607
DTEND;VALUE=DATE:20260608
SUMMARY:REP Grade 8 Family Mass 10:00am
END:VEVENT
BEGIN:VEVENT
UID:3043680@iccirvington.org
DTSTAMP:20260420T181546Z
DTSTART:20260501T190000
DTEND:20260501T200000
RRULE:FREQ=MONTHLY;BYDAY=FR;BYSETPOS=1
SUMMARY:FIRST FRIDAY HOLY HOUR
END:VEVENT
BEGIN:VEVENT
UID:3043693@iccirvington.org
DTSTAMP:20260420T181546Z
DTSTART;VALUE=DATE:20260815
DTEND;VALUE=DATE:20260816
SUMMARY:Assumption of Mary Mass at 8:30am
END:VEVENT
BEGIN:VEVENT
UID:3043695@iccirvington.org
DTSTAMP:20260420T181546Z
DTSTART;VALUE=DATE:20260814
DTEND;VALUE=DATE:20260815
SUMMARY:Assumption of Mary Vigil Mass 7:30pm
END:VEVENT
BEGIN:VEVENT
UID:3043698@iccirvington.org
DTSTAMP:20260420T181546Z
DTSTART;VALUE=DATE:20260911
DTEND;VALUE=DATE:20260912
SUMMARY:9-11 Memorial Hudson Park
END:VEVENT
BEGIN:VEVENT
UID:3043701@iccirvington.org
DTSTAMP:20260420T181546Z
DTSTART:20260913T100000
DTEND:20260913T110000
SUMMARY:Heroes Mass
END:VEVENT
BEGIN:VEVENT
UID:3043703@iccirvington.org
DTSTAMP:20260420T181546Z
DTSTART;VALUE=DATE:20260920
DTEND;VALUE=DATE:20260921
SUMMARY:Welcome Back BBQ
END:VEVENT
BEGIN:VEVENT
UID:3043707@iccirvington.org
DTSTAMP:20260420T181546Z
DTSTART:20261003T100000
DTEND:20261003T110000
SUMMARY:Blessing of the Animals
END:VEVENT
BEGIN:VEVENT
UID:3043712@iccirvington.org
DTSTAMP:20260420T181546Z
DTSTART;VALUE=DATE:20261004
DTEND;VALUE=DATE:20261005
SUMMARY:RESPECT LIFE SUNDAY
END:VEVENT
BEGIN:VEVENT
UID:3043713@iccirvington.org
DTSTAMP:20260420T181546Z
DTSTART;VALUE=DATE:20261004
DTEND;VALUE=DATE:20261005
SUMMARY:Expectant Family Blessings at each Mass
END:VEVENT
BEGIN:VEVENT
UID:3043717@iccirvington.org
DTSTAMP:20260420T181546Z
DTSTART;VALUE=DATE:20261012
DTEND;VALUE=DATE:20261013
SUMMARY:PARISH OFFICE CLOSED
END:VEVENT
BEGIN:VEVENT
UID:3043718@iccirvington.org
DTSTAMP:20260420T181546Z
DTSTART;VALUE=DATE:20260907
DTEND;VALUE=DATE:20260908
SUMMARY:PARISH OFFICE CLOSED
END:VEVENT
BEGIN:VEVENT
UID:3043725@iccirvington.org
DTSTAMP:20260420T181546Z
DTSTART;VALUE=DATE:20260703
DTEND;VALUE=DATE:20260704
SUMMARY:PARISH OFFICE CLOSED
END:VEVENT
BEGIN:VEVENT
UID:3043726@iccirvington.org
DTSTAMP:20260420T181546Z
DTSTART;VALUE=DATE:20260525
DTEND;VALUE=DATE:20260526
SUMMARY:PARISH OFFICE CLOSED
END:VEVENT
BEGIN:VEVENT
UID:3043739@iccirvington.org
DTSTAMP:20260420T181546Z
DTSTART:20261017T100000
DTEND:20261017T110000
SUMMARY:Anointing Mass 10:00am
END:VEVENT
BEGIN:VEVENT
UID:3043741@iccirvington.org
DTSTAMP:20260420T181546Z
DTSTART;VALUE=DATE:20261101
DTEND;VALUE=DATE:20261102
SUMMARY:ALL SAINTS DAY
END:VEVENT
BEGIN:VEVENT
UID:3043743@iccirvington.org
DTSTAMP:20260420T181546Z
DTSTART:20261101T100000
DTEND:20261101T110000
SUMMARY:Mass of Rememberance
END:VEVENT
BEGIN:VEVENT
UID:3043744@iccirvington.org
DTSTAMP:20260420T181546Z
DTSTART;VALUE=DATE:20261102
DTEND;VALUE=DATE:20261103
SUMMARY:ALL SOULS DAY
END:VEVENT
BEGIN:VEVENT
UID:3043746@iccirvington.org
DTSTAMP:20260420T181546Z
DTSTART;VALUE=DATE:20261103
DTEND;VALUE=DATE:20261104
SUMMARY:52nd ANNIVERSARY OF ICC
END:VEVENT
BEGIN:VEVENT
UID:3043747@iccirvington.org
DTSTAMP:20260420T181546Z
DTSTART:20261108T100000
DTEND:20261108T110000
SUMMARY:Veterans' Mass
END:VEVENT
BEGIN:VEVENT
UID:3043749@iccirvington.org
DTSTAMP:20260420T181546Z
DTSTART;VALUE=DATE:20261111
DTEND;VALUE=DATE:20261112
SUMMARY:VETERANS DAY
END:VEVENT
BEGIN:VEVENT
UID:3043750@iccirvington.org
DTSTAMP:20260420T181546Z
DTSTART;VALUE=DATE:20261111
DTEND;VALUE=DATE:20261112
SUMMARY:PARISH OFFICE CLOSED
END:VEVENT
BEGIN:VEVENT
UID:3043756@iccirvington.org
DTSTAMP:20260420T181546Z
DTSTART;VALUE=DATE:20261126
DTEND;VALUE=DATE:20261127
SUMMARY:THANKSGIVING DAY
END:VEVENT
BEGIN:VEVENT
UID:3043758@iccirvington.org
DTSTAMP:20260420T181546Z
DTSTART;VALUE=DATE:20261126
DTEND;VALUE=DATE:20261127
SUMMARY:PARISH OFFICE CLOSED
END:VEVENT
BEGIN:VEVENT
UID:3043760@iccirvington.org
DTSTAMP:20260420T181546Z
DTSTART;VALUE=DATE:20261127
DTEND;VALUE=DATE:20261128
SUMMARY:PARISH OFFICE CLOSED
END:VEVENT
BEGIN:VEVENT
UID:3043762@iccirvington.org
DTSTAMP:20260420T181546Z
DTSTART:20261130T190000
DTEND:20261130T200000
SUMMARY:Evening of Recollection
END:VEVENT
BEGIN:VEVENT
UID:3043764@iccirvington.org
DTSTAMP:20260420T181546Z
DTSTART:20261205T093000
DTEND:20261205T103000
SUMMARY:Decorate the Church
END:VEVENT
BEGIN:VEVENT
UID:3043766@iccirvington.org
DTSTAMP:20260420T181546Z
DTSTART;VALUE=DATE:20261208
DTEND;VALUE=DATE:20261209
SUMMARY:IMMACULATE CONCEPTION MASSES 8:30am and 12noon
END:VEVENT
BEGIN:VEVENT
UID:3043769@iccirvington.org
DTSTAMP:20260420T181546Z
DTSTART;VALUE=DATE:20261207
DTEND;VALUE=DATE:20261208
SUMMARY:IMMACULATE CONCEPTION VIGIL MASS 7:30pm
END:VEVENT
BEGIN:VEVENT
UID:3043771@iccirvington.org
DTSTAMP:20260420T181546Z
DTSTART:20261212T100000
DTEND:20261212T110000
SUMMARY:Breakfast with Santa
END:VEVENT
BEGIN:VEVENT
UID:3043775@iccirvington.org
DTSTAMP:20260420T181546Z
DTSTART;VALUE=DATE:20261214
DTEND;VALUE=DATE:20261215
SUMMARY:Reconciliation Monday\; 9am\, 3-5pm\, & 6-8pm
END:VEVENT
BEGIN:VEVENT
UID:3043779@iccirvington.org
DTSTAMP:20260420T181546Z
DTSTART;VALUE=DATE:20261224
DTEND;VALUE=DATE:20261225
SUMMARY:CHRISTMAS EVE MASSES 5pm and 9pm
END:VEVENT
BEGIN:VEVENT
UID:3043787@iccirvington.org
DTSTAMP:20260420T181546Z
DTSTART;VALUE=DATE:20261225
DTEND;VALUE=DATE:20261226
SUMMARY:Nativity of the Lord Masses\; 8\, 10\, & 12noon
END:VEVENT
BEGIN:VEVENT
UID:3043791@iccirvington.org
DTSTAMP:20260420T181546Z
DTSTART;VALUE=DATE:20261231
DTEND;VALUE=DATE:20270101
SUMMARY:Solemnity of Mary Vigil Mass 7:30pm
END:VEVENT
BEGIN:VEVENT
UID:3043792@iccirvington.org
DTSTAMP:20260420T181546Z
DTSTART;VALUE=DATE:20270101
DTEND;VALUE=DATE:20270102
SUMMARY:Solemnity of Mary Mother of God
END:VEVENT
BEGIN:VEVENT
UID:3043797@iccirvington.org
DTSTAMP:20260420T181546Z
DTSTART;VALUE=DATE:20261224
DTEND;VALUE=DATE:20261225
SUMMARY:PARISH OFFICE CLOSED
END:VEVENT
BEGIN:VEVENT
UID:3043798@iccirvington.org
DTSTAMP:20260420T181546Z
DTSTART;VALUE=DATE:20261225
DTEND;VALUE=DATE:20261226
SUMMARY:PARISH OFFICE CLOSED
END:VEVENT
BEGIN:VEVENT
UID:3043800@iccirvington.org
DTSTAMP:20260420T181546Z
DTSTART;VALUE=DATE:20261231
DTEND;VALUE=DATE:20270101
SUMMARY:PARISH OFFICE CLOSED
END:VEVENT
BEGIN:VEVENT
UID:3043802@iccirvington.org
DTSTAMP:20260420T181546Z
DTSTART;VALUE=DATE:20270101
DTEND;VALUE=DATE:20270102
SUMMARY:PARISH OFFICE CLOSED
END:VEVENT
END:VCALENDAR
